Package: cliqueMS Version: 1.21.0 Command: /Library/Frameworks/R.framework/Resources/bin/R CMD INSTALL cliqueMS StartedAt: 2025-02-09 15:32:46 -0500 (Sun, 09 Feb 2025) EndedAt: 2025-02-09 15:34:13 -0500 (Sun, 09 Feb 2025) EllapsedTime: 86.1 seconds RetCode: 0 Status: OK