Package: cliqueMS Version: 1.21.0 Command: /home/biocbuild/bbs-3.21-bioc/R/bin/R CMD check --install=check:cliqueMS.install-out.txt --library=/home/biocbuild/bbs-3.21-bioc/R/site-library --timings cliqueMS_1.21.0.tar.gz StartedAt: 2025-02-09 20:58:25 -0500 (Sun, 09 Feb 2025) EndedAt: 2025-02-09 21:04:42 -0500 (Sun, 09 Feb 2025) EllapsedTime: 377.6 seconds RetCode: 0 Status: OK CheckDir: cliqueMS.Rcheck Warnings: 0