Package: cliqueMS Version: 1.21.0 Command: chmod a+r cliqueMS -R && E:\biocbuild\bbs-3.21-bioc\R\bin\R.exe CMD build --keep-empty-dirs --no-resave-data cliqueMS StartedAt: 2025-02-09 17:54:16 -0500 (Sun, 09 Feb 2025) EndedAt: 2025-02-09 17:56:29 -0500 (Sun, 09 Feb 2025) EllapsedTime: 133.8 seconds RetCode: 0 Status: OK PackageFile: cliqueMS_1.21.0.tar.gz PackageFileSize: 555.9 KiB