Package: clst Version: 1.55.0 Command: rm -rf clst.buildbin-libdir && mkdir clst.buildbin-libdir && /Users/biocbuild/BBS/utils/build-universal.sh clst_1.55.0.tar.gz /Library/Frameworks/R.framework/Resources/bin/R clst.buildbin-libdir StartedAt: 2025-02-09 22:09:37 -0500 (Sun, 09 Feb 2025) EndedAt: 2025-02-09 22:09:39 -0500 (Sun, 09 Feb 2025) EllapsedTime: 2.0 seconds RetCode: 0 Status: OK PackageFile: clst_1.55.0.tgz PackageFileSize: 1.659 MiB