Package: clusterExperiment Version: 2.27.0 Maintainer: Elizabeth Purdom MaintainerEmail: epurdom at stat.berkeley.edu git_url: https://git.bioconductor.org/packages/clusterExperiment git_branch: devel git_last_commit: 3bb82fb git_last_commit_date: 2024-10-29 10:12:11 -0500 (Tue, 29 Oct 2024)