Package: clusterExperiment Version: 2.27.0 Command: /Library/Frameworks/R.framework/Resources/bin/R CMD build --keep-empty-dirs --no-resave-data clusterExperiment StartedAt: 2025-02-04 15:55:53 -0500 (Tue, 04 Feb 2025) EndedAt: 2025-02-04 15:57:51 -0500 (Tue, 04 Feb 2025) EllapsedTime: 118.3 seconds RetCode: 0 Status: OK PackageFile: clusterExperiment_2.27.0.tar.gz PackageFileSize: 12.08 MiB