Package: clusterExperiment Version: 2.27.0 Command: /Library/Frameworks/R.framework/Resources/bin/R CMD check --install=check:clusterExperiment.install-out.txt --library=/Library/Frameworks/R.framework/Resources/library --no-vignettes --timings clusterExperiment_2.27.0.tar.gz StartedAt: 2025-02-04 18:35:14 -0500 (Tue, 04 Feb 2025) EndedAt: 2025-02-04 18:39:43 -0500 (Tue, 04 Feb 2025) EllapsedTime: 269.4 seconds RetCode: 0 Status: WARNINGS CheckDir: clusterExperiment.Rcheck Warnings: 2