Package: clusterExperiment Version: 2.27.0 Command: /Library/Frameworks/R.framework/Resources/bin/R CMD INSTALL clusterExperiment StartedAt: 2025-02-04 15:24:56 -0500 (Tue, 04 Feb 2025) EndedAt: 2025-02-04 15:25:28 -0500 (Tue, 04 Feb 2025) EllapsedTime: 31.2 seconds RetCode: 0 Status: OK