Package: clusterExperiment Version: 2.27.0 Command: /home/biocbuild/R/R/bin/R CMD build --keep-empty-dirs --no-resave-data clusterExperiment StartedAt: 2025-01-28 21:56:52 -0000 (Tue, 28 Jan 2025) EndedAt: 2025-01-28 22:05:14 -0000 (Tue, 28 Jan 2025) EllapsedTime: 502.2 seconds RetCode: 0 Status: OK PackageFile: clusterExperiment_2.27.0.tar.gz PackageFileSize: 7.231 MiB