Package: clusterExperiment Version: 2.27.0 Command: /Library/Frameworks/R.framework/Resources/bin/R CMD check --install=check:clusterExperiment.install-out.txt --library=/Library/Frameworks/R.framework/Resources/library --no-vignettes --timings clusterExperiment_2.27.0.tar.gz StartedAt: 2025-02-09 19:48:02 -0500 (Sun, 09 Feb 2025) EndedAt: 2025-02-09 20:02:55 -0500 (Sun, 09 Feb 2025) EllapsedTime: 893.1 seconds RetCode: 0 Status: WARNINGS CheckDir: clusterExperiment.Rcheck Warnings: 2