Package: clusterExperiment Version: 2.27.0 Command: /Library/Frameworks/R.framework/Resources/bin/R CMD INSTALL clusterExperiment StartedAt: 2025-02-03 15:43:33 -0500 (Mon, 03 Feb 2025) EndedAt: 2025-02-03 15:45:11 -0500 (Mon, 03 Feb 2025) EllapsedTime: 98.6 seconds RetCode: 0 Status: OK