Package: clusterExperiment Version: 2.27.0 Command: E:\biocbuild\bbs-3.21-bioc\R\bin\R.exe CMD INSTALL clusterExperiment StartedAt: 2025-02-09 16:47:16 -0500 (Sun, 09 Feb 2025) EndedAt: 2025-02-09 16:52:05 -0500 (Sun, 09 Feb 2025) EllapsedTime: 288.8 seconds RetCode: 0 Status: OK