Package: clusterProfiler Version: 4.15.1 Command: rm -rf clusterProfiler.buildbin-libdir && mkdir clusterProfiler.buildbin-libdir && /Users/biocbuild/BBS/utils/build-universal.sh clusterProfiler_4.15.1.tar.gz /Library/Frameworks/R.framework/Resources/bin/R clusterProfiler.buildbin-libdir StartedAt: 2025-02-12 22:14:54 -0500 (Wed, 12 Feb 2025) EndedAt: 2025-02-12 22:15:04 -0500 (Wed, 12 Feb 2025) EllapsedTime: 10.3 seconds RetCode: 0 Status: OK PackageFile: clusterProfiler_4.15.1.tgz PackageFileSize: 1.02 MiB