Package: clusterProfiler Version: 4.15.1 Command: /home/biocbuild/R/R/bin/R CMD build --keep-empty-dirs --no-resave-data clusterProfiler StartedAt: 2025-01-28 21:57:12 -0000 (Tue, 28 Jan 2025) EndedAt: 2025-01-28 21:57:46 -0000 (Tue, 28 Jan 2025) EllapsedTime: 34.0 seconds RetCode: 0 Status: OK PackageFile: clusterProfiler_4.15.1.tar.gz PackageFileSize: 611.9 KiB