Package: clusterProfiler Version: 4.15.1 Command: /Library/Frameworks/R.framework/Resources/bin/R CMD INSTALL clusterProfiler StartedAt: 2025-02-09 15:33:31 -0500 (Sun, 09 Feb 2025) EndedAt: 2025-02-09 15:34:04 -0500 (Sun, 09 Feb 2025) EllapsedTime: 33.1 seconds RetCode: 0 Status: OK