Package: clusterProfiler Version: 4.15.1 Command: /home/biocbuild/bbs-3.21-bioc/R/bin/R CMD build --keep-empty-dirs --no-resave-data clusterProfiler StartedAt: 2025-02-09 16:41:41 -0500 (Sun, 09 Feb 2025) EndedAt: 2025-02-09 16:42:06 -0500 (Sun, 09 Feb 2025) EllapsedTime: 25.0 seconds RetCode: 0 Status: OK PackageFile: clusterProfiler_4.15.1.tar.gz PackageFileSize: 611 KiB