Package: clusterProfiler Version: 4.15.1 Command: /home/biocbuild/bbs-3.21-bioc/R/bin/R CMD check --install=check:clusterProfiler.install-out.txt --library=/home/biocbuild/bbs-3.21-bioc/R/site-library --timings clusterProfiler_4.15.1.tar.gz StartedAt: 2025-02-09 21:00:58 -0500 (Sun, 09 Feb 2025) EndedAt: 2025-02-09 21:04:22 -0500 (Sun, 09 Feb 2025) EllapsedTime: 204.3 seconds RetCode: 0 Status: OK CheckDir: clusterProfiler.Rcheck Warnings: 0