Package: clusterProfiler Version: 4.15.1 Command: chmod a+r clusterProfiler -R && E:\biocbuild\bbs-3.21-bioc\R\bin\R.exe CMD build --keep-empty-dirs --no-resave-data clusterProfiler StartedAt: 2025-02-09 17:55:18 -0500 (Sun, 09 Feb 2025) EndedAt: 2025-02-09 17:56:09 -0500 (Sun, 09 Feb 2025) EllapsedTime: 51.4 seconds RetCode: 0 Status: OK PackageFile: clusterProfiler_4.15.1.tar.gz PackageFileSize: 611 KiB