Package: clusterSeq Version: 1.31.0 Command: rm -rf clusterSeq.buildbin-libdir && mkdir clusterSeq.buildbin-libdir && E:\biocbuild\bbs-3.21-bioc\R\bin\R.exe CMD INSTALL --build --library=clusterSeq.buildbin-libdir clusterSeq_1.31.0.tar.gz StartedAt: 2025-02-10 07:28:55 -0500 (Mon, 10 Feb 2025) EndedAt: 2025-02-10 07:29:14 -0500 (Mon, 10 Feb 2025) EllapsedTime: 19.4 seconds RetCode: 0 Status: OK PackageFile: clusterSeq_1.31.0.zip PackageFileSize: 1.057 MiB