Package: clusterStab Version: 1.79.0 Command: rm -rf clusterStab.buildbin-libdir && mkdir clusterStab.buildbin-libdir && /Users/biocbuild/BBS/utils/build-universal.sh clusterStab_1.79.0.tar.gz /Library/Frameworks/R.framework/Resources/bin/R clusterStab.buildbin-libdir StartedAt: 2025-02-13 00:30:29 -0500 (Thu, 13 Feb 2025) EndedAt: 2025-02-13 00:30:37 -0500 (Thu, 13 Feb 2025) EllapsedTime: 8.2 seconds RetCode: 0 Status: OK PackageFile: clusterStab_1.79.0.tgz PackageFileSize: 341.8 KiB