Package: clusterStab Version: 1.79.0 Command: /Library/Frameworks/R.framework/Resources/bin/R CMD INSTALL clusterStab StartedAt: 2025-02-09 15:05:12 -0500 (Sun, 09 Feb 2025) EndedAt: 2025-02-09 15:05:34 -0500 (Sun, 09 Feb 2025) EllapsedTime: 22.3 seconds RetCode: 0 Status: OK