Package: clustifyr Version: 1.19.0 Command: /home/biocbuild/R/R/bin/R CMD build --keep-empty-dirs --no-resave-data clustifyr StartedAt: 2025-01-28 21:58:02 -0000 (Tue, 28 Jan 2025) EndedAt: 2025-01-28 21:59:22 -0000 (Tue, 28 Jan 2025) EllapsedTime: 80.0 seconds RetCode: 0 Status: OK PackageFile: clustifyr_1.19.0.tar.gz PackageFileSize: 2.899 MiB