Package: clustifyr Version: 1.19.0 Command: rm -rf clustifyr.buildbin-libdir && mkdir clustifyr.buildbin-libdir && E:\biocbuild\bbs-3.21-bioc\R\bin\R.exe CMD INSTALL --build --library=clustifyr.buildbin-libdir clustifyr_1.19.0.tar.gz StartedAt: 2025-02-10 07:29:01 -0500 (Mon, 10 Feb 2025) EndedAt: 2025-02-10 07:30:15 -0500 (Mon, 10 Feb 2025) EllapsedTime: 73.4 seconds RetCode: 0 Status: OK PackageFile: clustifyr_1.19.0.zip PackageFileSize: 3.522 MiB