Package: clustifyr Version: 1.19.0 Command: chmod a+r clustifyr -R && E:\biocbuild\bbs-3.21-bioc\R\bin\R.exe CMD build --keep-empty-dirs --no-resave-data clustifyr StartedAt: 2025-02-09 17:55:36 -0500 (Sun, 09 Feb 2025) EndedAt: 2025-02-09 17:57:13 -0500 (Sun, 09 Feb 2025) EllapsedTime: 97.5 seconds RetCode: 0 Status: OK PackageFile: clustifyr_1.19.0.tar.gz PackageFileSize: 2.79 MiB