Package: clustifyr Version: 1.19.0 Command: E:\biocbuild\bbs-3.21-bioc\R\bin\R.exe CMD check --no-multiarch --install=check:clustifyr.install-out.txt --library=E:\biocbuild\bbs-3.21-bioc\R\library --no-vignettes --timings clustifyr_1.19.0.tar.gz StartedAt: 2025-02-09 23:45:24 -0500 (Sun, 09 Feb 2025) EndedAt: 2025-02-09 23:58:58 -0500 (Sun, 09 Feb 2025) EllapsedTime: 813.8 seconds RetCode: 0 Status: OK CheckDir: clustifyr.Rcheck Warnings: 0