Package: clustifyr Version: 1.19.0 Command: E:\biocbuild\bbs-3.21-bioc\R\bin\R.exe CMD INSTALL clustifyr StartedAt: 2025-02-09 16:17:22 -0500 (Sun, 09 Feb 2025) EndedAt: 2025-02-09 16:18:28 -0500 (Sun, 09 Feb 2025) EllapsedTime: 66.4 seconds RetCode: 0 Status: OK