Package: cmapR Version: 1.19.0 Command: /Library/Frameworks/R.framework/Resources/bin/R CMD build --keep-empty-dirs --no-resave-data cmapR StartedAt: 2025-02-04 15:56:28 -0500 (Tue, 04 Feb 2025) EndedAt: 2025-02-04 15:56:50 -0500 (Tue, 04 Feb 2025) EllapsedTime: 22.3 seconds RetCode: 0 Status: OK PackageFile: cmapR_1.19.0.tar.gz PackageFileSize: 3.736 MiB