Package: cmapR Version: 1.19.0 Command: /Library/Frameworks/R.framework/Resources/bin/R CMD check --install=check:cmapR.install-out.txt --library=/Library/Frameworks/R.framework/Resources/library --no-vignettes --timings cmapR_1.19.0.tar.gz StartedAt: 2025-02-04 18:35:48 -0500 (Tue, 04 Feb 2025) EndedAt: 2025-02-04 18:37:03 -0500 (Tue, 04 Feb 2025) EllapsedTime: 74.9 seconds RetCode: 0 Status: OK CheckDir: cmapR.Rcheck Warnings: 0