Package: cmapR Version: 1.19.0 Command: /Library/Frameworks/R.framework/Resources/bin/R CMD INSTALL cmapR StartedAt: 2025-02-04 15:04:52 -0500 (Tue, 04 Feb 2025) EndedAt: 2025-02-04 15:05:03 -0500 (Tue, 04 Feb 2025) EllapsedTime: 10.9 seconds RetCode: 0 Status: OK