Package: cmapR Version: 1.19.0 Command: /home/biocbuild/R/R/bin/R CMD INSTALL cmapR StartedAt: 2025-01-29 19:42:16 -0000 (Wed, 29 Jan 2025) EndedAt: 2025-01-29 19:42:52 -0000 (Wed, 29 Jan 2025) EllapsedTime: 35.1 seconds RetCode: 0 Status: OK