Package: cmapR Version: 1.19.0 Command: rm -rf cmapR.buildbin-libdir && mkdir cmapR.buildbin-libdir && E:\biocbuild\bbs-3.21-bioc\R\bin\R.exe CMD INSTALL --build --library=cmapR.buildbin-libdir cmapR_1.19.0.tar.gz StartedAt: 2025-02-10 07:29:14 -0500 (Mon, 10 Feb 2025) EndedAt: 2025-02-10 07:30:07 -0500 (Mon, 10 Feb 2025) EllapsedTime: 52.9 seconds RetCode: 0 Status: OK PackageFile: cmapR_1.19.0.zip PackageFileSize: 3.886 MiB