Package: cmapR Version: 1.19.0 Command: chmod a+r cmapR -R && E:\biocbuild\bbs-3.21-bioc\R\bin\R.exe CMD build --keep-empty-dirs --no-resave-data cmapR StartedAt: 2025-02-09 17:56:04 -0500 (Sun, 09 Feb 2025) EndedAt: 2025-02-09 17:57:51 -0500 (Sun, 09 Feb 2025) EllapsedTime: 106.5 seconds RetCode: 0 Status: OK PackageFile: cmapR_1.19.0.tar.gz PackageFileSize: 3.686 MiB