Package: cn.farms Version: 1.55.0 Command: chmod a+r cn.farms -R && E:\biocbuild\bbs-3.21-bioc\R\bin\R.exe CMD build --keep-empty-dirs --no-resave-data cn.farms StartedAt: 2025-02-09 17:56:10 -0500 (Sun, 09 Feb 2025) EndedAt: 2025-02-09 17:56:22 -0500 (Sun, 09 Feb 2025) EllapsedTime: 12.0 seconds RetCode: 1 Status: ERROR PackageFile: None PackageFileSize: NA