Back to Multiple platform build/check report for BioC 3.21:   simplified   long
AB[C]DEFGHIJKLMNOPQRSTUVWXYZ

This page was generated on 2025-02-10 11:38 -0500 (Mon, 10 Feb 2025).

HostnameOSArch (*)R versionInstalled pkgs
nebbiolo1Linux (Ubuntu 24.04.1 LTS)x86_64R Under development (unstable) (2025-01-20 r87609) -- "Unsuffered Consequences" 4719
palomino7Windows Server 2022 Datacenterx64R Under development (unstable) (2025-01-21 r87610 ucrt) -- "Unsuffered Consequences" 4480
lconwaymacOS 12.7.1 Montereyx86_64R Under development (unstable) (2025-01-22 r87618) -- "Unsuffered Consequences" 4491
kjohnson3macOS 13.7.1 Venturaarm64R Under development (unstable) (2025-01-20 r87609) -- "Unsuffered Consequences" 4444
Click on any hostname to see more info about the system (e.g. compilers)      (*) as reported by 'uname -p', except on Windows and Mac OS X

All results for package cn.mops


To the developers/maintainers of the cn.mops package:
- Allow up to 24 hours (and sometimes 48 hours) for your latest push to git@git.bioconductor.org:packages/cn.mops.git to reflect on this report. See Troubleshooting Build Report for more information.
- Use the following Renviron settings to reproduce errors and warnings.
- If 'R CMD check' started to fail recently on the Linux builder(s) over a missing dependency, add the missing dependency to 'Suggests:' in your DESCRIPTION file. See Renviron.bioc for more information.

raw results

Package 385/2295HostnameOS / ArchINSTALLBUILDCHECKBUILD BIN
cn.mops 1.53.0  (landing page)
Gundula Povysil
Snapshot Date: 2025-02-09 13:40 -0500 (Sun, 09 Feb 2025)
git_url: https://git.bioconductor.org/packages/cn.mops
git_branch: devel
git_last_commit: f3ed325
git_last_commit_date: 2025-01-01 13:36:05 -0500 (Wed, 01 Jan 2025)
nebbiolo1Linux (Ubuntu 24.04.1 LTS) / x86_64  OK    OK    OK  UNNEEDED, same version is already published
palomino7Windows Server 2022 Datacenter / x64  OK    OK    OK    OK  UNNEEDED, same version is already published
lconwaymacOS 12.7.1 Monterey / x86_64  OK    OK    OK    OK  UNNEEDED, same version is already published
kjohnson3macOS 13.7.1 Ventura / arm64  OK    OK    OK    OK  UNNEEDED, same version is already published



Results for Bioconductor software packages that depend directly on package cn.mops

QUICK STATSOS / ArchINSTALLBUILDCHECKBUILD BIN
nebbiolo1Linux (Ubuntu 24.04.1 LTS) / x86_64
002
011
0001
palomino7Windows Server 2022 Datacenter / x64
002
011
0001
001
lconwaymacOS 12.7.1 Monterey / x86_64
002
011
0001
001
kjohnson3macOS 13.7.1 Ventura / arm64
002
011
0001
001
Package 1/2HostnameOS / ArchINSTALLBUILDCHECKBUILD BIN
CopyNumberPlots 1.23.0  (landing page)
Bernat Gel
git_last_commit: f101583
git_last_commit_date: 2024-10-29 10:36:48 -0500
nebbiolo1Linux (Ubuntu 24.04.1 LTS) / x86_64  OK    ERROR  skipped
palomino7Windows Server 2022 Datacenter / x64  OK    ERROR  skippedskipped
lconwaymacOS 12.7.1 Monterey / x86_64  OK    ERROR  skippedskipped
kjohnson3macOS 13.7.1 Ventura / arm64  OK    ERROR  skippedskipped
Package 2/2HostnameOS / ArchINSTALLBUILDCHECKBUILD BIN
panelcn.mops 1.29.0  (landing page)
Gundula Povysil
git_last_commit: d91ac16
git_last_commit_date: 2024-10-29 10:22:30 -0500
nebbiolo1Linux (Ubuntu 24.04.1 LTS) / x86_64  OK    OK    OK  UNNEEDED, same version is already published
palomino7Windows Server 2022 Datacenter / x64  OK    OK    OK    OK  UNNEEDED, same version is already published
lconwaymacOS 12.7.1 Monterey / x86_64  OK    OK    OK    OK  UNNEEDED, same version is already published
kjohnson3macOS 13.7.1 Ventura / arm64  OK    OK    OK    OK  UNNEEDED, same version is already published