Package: cn.mops Version: 1.53.0 Maintainer: Gundula Povysil MaintainerEmail: povysil at bioinf.jku.at git_url: https://git.bioconductor.org/packages/cn.mops git_branch: devel git_last_commit: f3ed325 git_last_commit_date: 2025-01-01 13:36:05 -0500 (Wed, 01 Jan 2025)