Package: cn.mops Version: 1.53.0 Command: /Library/Frameworks/R.framework/Resources/bin/R CMD INSTALL cn.mops StartedAt: 2025-02-09 15:09:50 -0500 (Sun, 09 Feb 2025) EndedAt: 2025-02-09 15:09:58 -0500 (Sun, 09 Feb 2025) EllapsedTime: 8.1 seconds RetCode: 0 Status: OK