Package: cn.mops Version: 1.53.0 Command: rm -rf cn.mops.buildbin-libdir && mkdir cn.mops.buildbin-libdir && /Users/biocbuild/BBS/utils/build-universal.sh cn.mops_1.53.0.tar.gz /Library/Frameworks/R.framework/Resources/bin/R cn.mops.buildbin-libdir StartedAt: 2025-02-10 00:47:14 -0500 (Mon, 10 Feb 2025) EndedAt: 2025-02-10 00:47:44 -0500 (Mon, 10 Feb 2025) EllapsedTime: 30.0 seconds RetCode: 0 Status: OK PackageFile: cn.mops_1.53.0.tgz PackageFileSize: 1.386 MiB