Package: cn.mops Version: 1.53.0 Command: /Library/Frameworks/R.framework/Resources/bin/R CMD build --keep-empty-dirs --no-resave-data cn.mops StartedAt: 2025-02-09 16:19:28 -0500 (Sun, 09 Feb 2025) EndedAt: 2025-02-09 16:20:23 -0500 (Sun, 09 Feb 2025) EllapsedTime: 54.9 seconds RetCode: 0 Status: OK PackageFile: cn.mops_1.53.0.tar.gz PackageFileSize: 1.003 MiB