Package: cn.mops Version: 1.53.0 Command: /Library/Frameworks/R.framework/Resources/bin/R CMD check --install=check:cn.mops.install-out.txt --library=/Library/Frameworks/R.framework/Resources/library --no-vignettes --timings cn.mops_1.53.0.tar.gz StartedAt: 2025-02-09 19:50:14 -0500 (Sun, 09 Feb 2025) EndedAt: 2025-02-09 19:53:49 -0500 (Sun, 09 Feb 2025) EllapsedTime: 214.8 seconds RetCode: 0 Status: OK CheckDir: cn.mops.Rcheck Warnings: 0