Package: cn.mops Version: 1.53.0 Command: /Library/Frameworks/R.framework/Resources/bin/R CMD INSTALL cn.mops StartedAt: 2025-02-09 15:17:16 -0500 (Sun, 09 Feb 2025) EndedAt: 2025-02-09 15:17:43 -0500 (Sun, 09 Feb 2025) EllapsedTime: 26.7 seconds RetCode: 0 Status: OK