Package: cn.mops Version: 1.53.0 Command: /home/biocbuild/bbs-3.21-bioc/R/bin/R CMD INSTALL cn.mops StartedAt: 2025-02-09 15:15:55 -0500 (Sun, 09 Feb 2025) EndedAt: 2025-02-09 15:16:13 -0500 (Sun, 09 Feb 2025) EllapsedTime: 17.5 seconds RetCode: 0 Status: OK