Package: cn.mops Version: 1.53.0 Command: chmod a+r cn.mops -R && E:\biocbuild\bbs-3.21-bioc\R\bin\R.exe CMD build --keep-empty-dirs --no-resave-data cn.mops StartedAt: 2025-02-09 17:56:22 -0500 (Sun, 09 Feb 2025) EndedAt: 2025-02-09 17:57:46 -0500 (Sun, 09 Feb 2025) EllapsedTime: 83.5 seconds RetCode: 0 Status: OK PackageFile: cn.mops_1.53.0.tar.gz PackageFileSize: 954.5 KiB