Package: cn.mops Version: 1.53.0 Command: E:\biocbuild\bbs-3.21-bioc\R\bin\R.exe CMD check --no-multiarch --install=check:cn.mops.install-out.txt --library=E:\biocbuild\bbs-3.21-bioc\R\library --no-vignettes --timings cn.mops_1.53.0.tar.gz StartedAt: 2025-02-09 23:46:04 -0500 (Sun, 09 Feb 2025) EndedAt: 2025-02-09 23:50:05 -0500 (Sun, 09 Feb 2025) EllapsedTime: 240.9 seconds RetCode: 0 Status: OK CheckDir: cn.mops.Rcheck Warnings: 0