Package: cnvGSA Version: 1.51.0 Command: rm -rf cnvGSA.buildbin-libdir && mkdir cnvGSA.buildbin-libdir && /Users/biocbuild/BBS/utils/build-universal.sh cnvGSA_1.51.0.tar.gz /Library/Frameworks/R.framework/Resources/bin/R cnvGSA.buildbin-libdir StartedAt: 2025-02-12 22:15:04 -0500 (Wed, 12 Feb 2025) EndedAt: 2025-02-12 22:15:09 -0500 (Wed, 12 Feb 2025) EllapsedTime: 5.1 seconds RetCode: 0 Status: OK PackageFile: cnvGSA_1.51.0.tgz PackageFileSize: 431.1 KiB