Package: cnvGSA Version: 1.51.0 Command: /Library/Frameworks/R.framework/Resources/bin/R CMD check --install=check:cnvGSA.install-out.txt --library=/Library/Frameworks/R.framework/Resources/library --no-vignettes --timings cnvGSA_1.51.0.tar.gz StartedAt: 2025-02-12 18:37:08 -0500 (Wed, 12 Feb 2025) EndedAt: 2025-02-12 18:37:38 -0500 (Wed, 12 Feb 2025) EllapsedTime: 29.5 seconds RetCode: 0 Status: OK CheckDir: cnvGSA.Rcheck Warnings: 0