Package: cnvGSA Version: 1.51.0 Command: /home/biocbuild/bbs-3.21-bioc/R/bin/R CMD INSTALL cnvGSA StartedAt: 2025-02-12 15:15:23 -0500 (Wed, 12 Feb 2025) EndedAt: 2025-02-12 15:15:33 -0500 (Wed, 12 Feb 2025) EllapsedTime: 9.8 seconds RetCode: 0 Status: OK