Package: coGPS Version: 1.51.0 Command: /Library/Frameworks/R.framework/Resources/bin/R CMD build --keep-empty-dirs --no-resave-data coGPS StartedAt: 2025-02-12 15:57:43 -0500 (Wed, 12 Feb 2025) EndedAt: 2025-02-12 15:57:48 -0500 (Wed, 12 Feb 2025) EllapsedTime: 5.1 seconds RetCode: 0 Status: OK PackageFile: coGPS_1.51.0.tar.gz PackageFileSize: 1.761 MiB