Package: coGPS Version: 1.51.0 Command: /Library/Frameworks/R.framework/Resources/bin/R CMD check --install=check:coGPS.install-out.txt --library=/Library/Frameworks/R.framework/Resources/library --no-vignettes --timings coGPS_1.51.0.tar.gz StartedAt: 2025-02-09 18:37:11 -0500 (Sun, 09 Feb 2025) EndedAt: 2025-02-09 18:37:24 -0500 (Sun, 09 Feb 2025) EllapsedTime: 13.1 seconds RetCode: 0 Status: OK CheckDir: coGPS.Rcheck Warnings: 0