Package: coGPS Version: 1.51.0 Command: /home/biocbuild/R/R/bin/R CMD build --keep-empty-dirs --no-resave-data coGPS StartedAt: 2025-01-28 22:01:52 -0000 (Tue, 28 Jan 2025) EndedAt: 2025-01-28 22:02:05 -0000 (Tue, 28 Jan 2025) EllapsedTime: 13.0 seconds RetCode: 0 Status: OK PackageFile: coGPS_1.51.0.tar.gz PackageFileSize: 1.761 MiB