Package: coGPS Version: 1.51.0 Command: /Library/Frameworks/R.framework/Resources/bin/R CMD build --keep-empty-dirs --no-resave-data coGPS StartedAt: 2025-02-09 16:20:33 -0500 (Sun, 09 Feb 2025) EndedAt: 2025-02-09 16:20:49 -0500 (Sun, 09 Feb 2025) EllapsedTime: 16.0 seconds RetCode: 0 Status: OK PackageFile: coGPS_1.51.0.tar.gz PackageFileSize: 1.762 MiB